BEGIN:VCALENDAR
VERSION:2.0
PRODID:-//Squarespace Inc/Squarespace 6//v6//EN
BEGIN:VEVENT
UID:576afb33e3df286cce599f20@squarespace.com
DTSTAMP:20160708T172709Z
DTSTART:20160712T220000Z
DTEND:20160712T233000Z
SUMMARY:New York\, NY
GEO:40.737021;-73.989603
LOCATION:Barnes & Noble Union Square\, 33 East 17th Street\, New York\, NY\
 , 10003\, United States
END:VEVENT
END:VCALENDAR
