BEGIN:VCALENDAR
VERSION:2.0
PRODID:-//Squarespace Inc/Squarespace 6//v6//EN
BEGIN:VEVENT
UID:576afba3f7e0abd30d4548ee@squarespace.com
DTSTAMP:20160708T004841Z
DTSTART:20160713T230000Z
DTEND:20160714T003000Z
SUMMARY:Philadelphia\, PA
GEO:39.984527;-75.262814
LOCATION:Children’s Book World at Friends’ Central School\, 1101 City Avenu
 e\, Wynnewood\, PA\, 19096\, United States
END:VEVENT
END:VCALENDAR
