BEGIN:VCALENDAR
VERSION:2.0
PRODID:-//Squarespace Inc/Squarespace 6//v6//EN
BEGIN:VEVENT
UID:576afbfd579fb30cbde01f23@squarespace.com
DTSTAMP:20160708T162036Z
DTSTART:20160714T230000Z
DTEND:20160715T003000Z
SUMMARY:Columbus\, OH
GEO:39.963655;-82.930327
LOCATION:The Book Loft at Bexley High School Theatre\, 326 South Cassingham 
 Road\, Bexley\, OH\, 43209\, United States
END:VEVENT
END:VCALENDAR
