BEGIN:VCALENDAR
VERSION:2.0
PRODID:-//Squarespace Inc/Squarespace 6//v6//EN
BEGIN:VEVENT
UID:576afc58bebafbdcb7464eaa@squarespace.com
DTSTAMP:20160708T004906Z
DTSTART:20160715T230000Z
DTEND:20160716T003000Z
SUMMARY:Chicago\, IL
GEO:41.783905;-88.156925
LOCATION:Anderson’s Bookshop at Naperville North H.S.\, 899 Mill Street\, N
 aperville\, IL\, 60563\, United States
END:VEVENT
END:VCALENDAR
