BEGIN:VCALENDAR
VERSION:2.0
PRODID:-//Squarespace Inc/Squarespace 6//v6//EN
BEGIN:VEVENT
UID:576afe79bebafbdcb7466563@squarespace.com
DTSTAMP:20160708T004920Z
DTSTART:20160716T200000Z
DTEND:20160716T213000Z
SUMMARY:Atlanta\, GA
GEO:33.771669;-84.29726
LOCATION:Decatur High School Performing Arts Center\, 310 North McDonough S
 treet\, Decatur\, GA\, 30030\, United States
END:VEVENT
END:VCALENDAR
