BEGIN:VCALENDAR
VERSION:2.0
PRODID:-//Squarespace Inc/Squarespace 6//v6//EN
BEGIN:VEVENT
UID:576b00fab3db2bdd3cbe6610@squarespace.com
DTSTAMP:20160708T004934Z
DTSTART:20160717T230000Z
DTEND:20160718T003000Z
SUMMARY:St. Louis\, MO
GEO:38.655749;-90.310554
LOCATION:Left Bank Books at 560 Music Center\, 560 Trinity Avenue\, Univers
 ity City\, MO\, 63130\, United States
END:VEVENT
END:VCALENDAR
