BEGIN:VCALENDAR
VERSION:2.0
PRODID:-//Squarespace Inc/Squarespace 6//v6//EN
BEGIN:VEVENT
UID:577d2da3d1758e79c8b20f09@squarespace.com
DTSTAMP:20160708T004940Z
DTSTART:20160719T230000Z
DTEND:20160720T003000Z
SUMMARY:Orlando\, FL
GEO:28.287135;-81.425824
LOCATION:Books-A-Million at Osceola High School\, 420 South Thacker Avenue\
 , Kissimmee\, FL\, 34741\, United States
END:VEVENT
END:VCALENDAR
