BEGIN:VCALENDAR
VERSION:2.0
PRODID:-//Squarespace Inc/Squarespace 6//v6//EN
BEGIN:VEVENT
UID:576b020429687f1fd26b9622@squarespace.com
DTSTAMP:20160708T004604Z
DTSTART:20160720T233000Z
DTEND:20160721T010000Z
SUMMARY:Dallas\, TX
GEO:32.787726;-96.800968
LOCATION:Dallas Museum of Art at Horchow Auditorium\, 1717 North Harwood St
 reet\, Dallas\, TX\, 75201\, United States
END:VEVENT
END:VCALENDAR
