BEGIN:VCALENDAR
VERSION:2.0
PRODID:-//Squarespace Inc/Squarespace 6//v6//EN
BEGIN:VEVENT
UID:576b033ae58c62cdf4cd061d@squarespace.com
DTSTAMP:20160708T004631Z
DTSTART:20160721T230000Z
DTEND:20160722T003000Z
SUMMARY:Salt Lake City\, UT
GEO:40.605262;-111.942431
LOCATION:King’s English at Viridian Event Center\, 8030 South 1825 West\, W
 est Jordan\, UT\, 84088\, United States
END:VEVENT
END:VCALENDAR
