BEGIN:VCALENDAR
VERSION:2.0
PRODID:-//Squarespace Inc/Squarespace 6//v6//EN
BEGIN:VEVENT
UID:576b03eee58c62cdf4cd0d3a@squarespace.com
DTSTAMP:20160708T004652Z
DTSTART:20160722T230000Z
DTEND:20160723T003000Z
SUMMARY:Denver\, CO
GEO:39.533496;-104.883033
LOCATION:Tattered Cover at Lone Tree Arts Center\, 10075 Commons Street\, L
 one Tree\, CO\, 80124\, United States
END:VEVENT
END:VCALENDAR
