BEGIN:VCALENDAR
VERSION:2.0
PRODID:-//Squarespace Inc/Squarespace 6//v6//EN
BEGIN:VEVENT
UID:577d2bce440243bd5e724cfd@squarespace.com
DTSTAMP:20160708T004719Z
DTSTART:20160723T200000Z
DTEND:20160723T213000Z
SUMMARY:Los Angeles\, CA
GEO:34.034135;-118.391615
LOCATION:Children’s Book World at Pattiz Concert Hall\, 2955 South Robertso
 n Boulevard\, Los Angeles\, CA\, 90034\, United States
END:VEVENT
END:VCALENDAR
