BEGIN:VCALENDAR
VERSION:2.0
PRODID:-//Squarespace Inc/Squarespace 6//v6//EN
BEGIN:VEVENT
UID:577e93ace58c6228e5fd2deb@squarespace.com
DTSTAMP:20160708T004738Z
DTSTART:20160724T190000Z
DTEND:20160724T203000Z
SUMMARY:San Francisco\, CA
GEO:37.787971;-122.300929
LOCATION:Books Inc. at Michaan’s Auction House Theater\, 2751 Todd Street\, 
 Alameda\, CA\, 94501\, United States
END:VEVENT
END:VCALENDAR
