BEGIN:VCALENDAR
VERSION:2.0
PRODID:-//Squarespace Inc/Squarespace 6//v6//EN
BEGIN:VEVENT
UID:576b043abebafbdcb7469bdc@squarespace.com
DTSTAMP:20160708T005201Z
DTSTART:20160725T220000Z
DTEND:20160725T233000Z
SUMMARY:Seattle\, WA
GEO:47.754008;-122.28036
LOCATION:Third Place Books (Lake Forest Park)\, 17171 Bothell Way Northeast 
 #A101\, Lake Forest Park\, WA\, 98155\, United States
END:VEVENT
END:VCALENDAR
