BEGIN:VCALENDAR
VERSION:2.0
PRODID:-//Squarespace Inc/Squarespace 6//v6//EN
BEGIN:VEVENT
UID:577d2d0e579fb35f94744b9b@squarespace.com
DTSTAMP:20200916T203635Z
DTSTART:20160726T230000Z
DTEND:20160727T000000Z
SUMMARY:Portland\, OR
GEO:45.529196;-122.61937
LOCATION:A Children’s Place at Laurelhurst School\, 840 Northeast 41st Aven
 ue\, Portland\, OR\, 97232\, United States
END:VEVENT
END:VCALENDAR
