BEGIN:VCALENDAR
VERSION:2.0
PRODID:-//Squarespace Inc/Squarespace 6//v6//EN
BEGIN:VEVENT
UID:5f6279bde24d1479bc50283a@squarespace.com
DTSTAMP:20200916T215603Z
DTSTART:20201002T190000Z
DTEND:20201002T200000Z
SUMMARY:Barnes &amp\; Noble EXCLUSIVE Virtual Event
GEO:36.105748;-95.917951
LOCATION:Barnes & Noble
END:VEVENT
END:VCALENDAR
