BEGIN:VCALENDAR
VERSION:2.0
PRODID:-//Squarespace Inc/Squarespace 6//v6//EN
BEGIN:VEVENT
UID:5f626b8424474a453f1d3e24@squarespace.com
DTSTAMP:20200917T214648Z
DTSTART:20201003T170000Z
DTEND:20201003T200000Z
SUMMARY:Virtual Town Hall with Chris Colfer and Blue Willow Bookshop!
GEO:36.079508;-95.84685
LOCATION:Blue Willow Bookshop\, Zoom
END:VEVENT
END:VCALENDAR
