BEGIN:VCALENDAR
VERSION:2.0
PRODID:-//Squarespace Inc/Squarespace 6//v6//EN
BEGIN:VEVENT
UID:5f91fedfe780d71b50046baa@squarespace.com
DTSTAMP:20201022T220526Z
DTSTART:20201030T230000Z
DTEND:20201031T000000Z
SUMMARY:Ask an Author With Chris Colfer &amp\; the L.A. Public Library 
END:VEVENT
END:VCALENDAR
