BEGIN:VCALENDAR
VERSION:2.0
PRODID:-//Squarespace Inc/Squarespace 6//v6//EN
BEGIN:VEVENT
UID:5f6282115160c416a32b6667@squarespace.com
DTSTAMP:20200916T215444Z
DTSTART:20200929T193000Z
DTEND:20200929T203000Z
SUMMARY: Virtual A TALE OF WITCHCRAFT... Pub Day Celebration with Chris Col
 fer and Anderson's Bookshops
GEO:41.769875;-88.142676
LOCATION:Anderson's Bookshops
END:VEVENT
END:VCALENDAR
